BEGIN:VCALENDAR
VERSION:2.0
PRODID:-//eventon.com NONSGML v1.0//EN
CALSCALE:GREGORIAN
METHOD:PUBLISH
BEGIN:VEVENT
UID:69e7306f474dd
DTSTAMP:20260421T080815Z
DTSTART:20230405T212700Z
DTEND:20230405T212700Z
LOCATION:
SUMMARY:ATELJE PETER NILSSON
DESCRIPTION:Fågelvägens påsktävling fredag-söndag 10-16 Akvareller &#
 8221;Fåglar och landskap&#8221; Ateljen är öppen fredag-söndag kl 12-17
 \nhttps://fagelvagen.com/events/atelje-peter-nilsson/
URL:https://fagelvagen.com/events/atelje-peter-nilsson/
END:VEVENT
END:VCALENDAR