BEGIN:VCALENDAR
VERSION:2.0
PRODID:-//eventon.com NONSGML v1.0//EN
CALSCALE:GREGORIAN
METHOD:PUBLISH
BEGIN:VEVENT
UID:69ec2e0c1cee9
DTSTAMP:20260425T025924Z
DTSTART:20240511T110000Z
DTEND:20240511T170000Z
LOCATION:
SUMMARY:PLANTBYTARDAG PÅ HAVTORNSGÅRDEN
DESCRIPTION:Välkommen till Havtornsgården för att köpa\,  sälja eller 
 byta plantor. Samtal kring växter och trädgård klockan 14.00.\nhttps://f
 agelvagen.com/events/plantbytardag-pa-havtornsgarden/
URL:https://fagelvagen.com/events/plantbytardag-pa-havtornsgarden/
END:VEVENT
END:VCALENDAR