BEGIN:VCALENDAR
VERSION:2.0
PRODID:-//eventon.com NONSGML v1.0//EN
CALSCALE:GREGORIAN
METHOD:PUBLISH
BEGIN:VEVENT
UID:69e73097809c4
DTSTAMP:20260421T080855Z
DTSTART:20251101T110000Z
DTEND:20251101T150000Z
LOCATION:
SUMMARY:Fågelvägens soppsafari 2025
DESCRIPTION:\nhttps://fagelvagen.com/events/fagelvagens-soppsafari-2025/
URL:https://fagelvagen.com/events/fagelvagens-soppsafari-2025/
END:VEVENT
END:VCALENDAR